BEGIN:VCALENDAR
VERSION:2.0
PRODID:icalendar-ruby
CALSCALE:GREGORIAN
METHOD:PUBLISH
BEGIN:VEVENT
DTSTAMP:20260422T014543Z
UID:1-2258001@trcny.us
DTSTART:20260920T150000Z
DTEND:20260920T170000Z
CLASS:PUBLIC
CREATED:20260421T195127
DESCRIPTION:Join us in the main auditorium as we worship and fellowship wit
 h family and friends
LAST-MODIFIED:20260421T195127
LOCATION:Main Sanctuary
SUMMARY:Sunday Morning Worship 
URL;VALUE=URI:https://www.trcny.us/events/sunday-morning-worship/2026-09-20
ATTACH;FILENAME=morning_worship.jpg;FMTTYPE=image/jpeg:https://dq5pwpg1q8ru
 0.cloudfront.net/2020/09/26/18/41/47/5af3dfe7-9d9e-4bc0-9671-903eed590a15/
 morning_worship.jpg
END:VEVENT
END:VCALENDAR
