BEGIN:VCALENDAR
VERSION:2.0
PRODID:icalendar-ruby
CALSCALE:GREGORIAN
METHOD:PUBLISH
BEGIN:VEVENT
DTSTAMP:20260420T105426Z
UID:5-2247771@trcny.us
DTSTART:20260426T151500Z
DTEND:20260426T163000Z
CLASS:PUBLIC
CREATED:20260420T064342
DESCRIPTION:Join us wherever you are. Watch our Sunday Services online anyt
 ime you like
LAST-MODIFIED:20260420T064342
LOCATION:Online
SUMMARY:Revival Online
URL;VALUE=URI:https://www.trcny.us/events/revival-online/2026-04-26
ATTACH;FILENAME=revival_ONline copy.jpg;FMTTYPE=image/jpeg:https://dq5pwpg1
 q8ru0.cloudfront.net/2020/11/28/18/42/14/855d2b87-4790-43b2-aafe-e704b8bc1
 a5d/revival_ONline%20copy.jpg
END:VEVENT
END:VCALENDAR
