BEGIN:VCALENDAR
VERSION:2.0
PRODID:icalendar-ruby
CALSCALE:GREGORIAN
METHOD:PUBLISH
BEGIN:VEVENT
DTSTAMP:20260422T022306Z
UID:2-2258340@trcny.us
DTSTART:20260926T003000Z
DTEND:20260926T013000Z
CLASS:PUBLIC
CREATED:20260421T195128
DESCRIPTION:Friday Night Deliverance will be meeting via Phone-lines until 
 further notice
LAST-MODIFIED:20260421T195128
LOCATION:
SUMMARY:Friday Night Service
URL;VALUE=URI:https://www.trcny.us/events/friday-night-service/2026-09-25
ATTACH;FILENAME=friday_night.jpg;FMTTYPE=image/jpeg:https://dq5pwpg1q8ru0.c
 loudfront.net/2020/05/07/09/07/44/7cbb58c2-a9c4-4b45-a4c5-5fee03b3b000/fri
 day_night.jpg
END:VEVENT
END:VCALENDAR
